BEGIN:VCALENDAR
VERSION:2.0
PRODID:PHP
METHOD:REQUEST
X-ORIGINAL-URL:http://tfvh.de/index.php/vereine-2?task=verein_begegnungen_ical&id=58
X-WR-CALNAME;VALUE=TEXT:VfB Rodheim/Horloff e.V.
BEGIN:VEVENT
CLASS:PUBLIC
DTSTART:20250425T200000Z
DURATION:PT2H30M
STATUS:CONFIRMED
SUMMARY:TFC Staufenberg 5 vs. VfB Rodheim 1
DESCRIPTION:Bezirksliga Mitte (5. Spieltag)\nErgebnis: 0:20 (0:20)
LOCATION:Vereinsheim TFC Staufenberg (Stadthalle), Porstendorfer Str. 2, 35460 Staufenberg
UID:SM-B6313@tfvh.de
PRIORITY:5
SEQUENCE:1
CATEGORIES:SPORT
DTSTAMP:20260421T070048
BEGIN:VALARM
ACTION:DISPLAY
TRIGGER:-PT2H
END:VALARM
END:VEVENT
BEGIN:VEVENT
CLASS:PUBLIC
DTSTART:20250502T200000Z
DURATION:PT2H30M
STATUS:CONFIRMED
SUMMARY:VfB Rodheim 1 vs. Eintracht Frankfurt 6
DESCRIPTION:Bezirksliga Mitte (6. Spieltag)\nErgebnis: 18:4 (18:4)
LOCATION:VfB Rodheim-Horloff Heimspielstätte, Oberndorfer Str. 20, 35410 Hungen-Rodheim
UID:SM-B6319@tfvh.de
PRIORITY:5
SEQUENCE:1
CATEGORIES:SPORT
DTSTAMP:20260421T070048
BEGIN:VALARM
ACTION:DISPLAY
TRIGGER:-PT2H
END:VALARM
END:VEVENT
BEGIN:VEVENT
CLASS:PUBLIC
DTSTART:20250516T200000Z
DURATION:PT2H30M
STATUS:CONFIRMED
SUMMARY:VfB Rodheim 1 vs. Eintracht Frankfurt 5
DESCRIPTION:Bezirksliga Mitte (7. Spieltag)\nErgebnis: 14:8 (14:8)
LOCATION:VfB Rodheim-Horloff Heimspielstätte, Oberndorfer Str. 20, 35410 Hungen-Rodheim
UID:SM-B6323@tfvh.de
PRIORITY:5
SEQUENCE:1
CATEGORIES:SPORT
DTSTAMP:20260421T070048
BEGIN:VALARM
ACTION:DISPLAY
TRIGGER:-PT2H
END:VALARM
END:VEVENT
BEGIN:VEVENT
CLASS:PUBLIC
DTSTART:20250523T200000Z
DURATION:PT2H30M
STATUS:CONFIRMED
SUMMARY:VfB Rodheim 1 vs. TFC Florstadt 1
DESCRIPTION:Pokalrunde Süd (Sechzehntelfinale)\nErgebnis: 11:14 (11:14)
LOCATION:VfB Rodheim-Horloff Heimspielstätte, Oberndorfer Str. 20, 35410 Hungen-Rodheim
UID:SM-B6462@tfvh.de
PRIORITY:5
SEQUENCE:1
CATEGORIES:SPORT
DTSTAMP:20260421T070048
BEGIN:VALARM
ACTION:DISPLAY
TRIGGER:-PT2H
END:VALARM
END:VEVENT
BEGIN:VEVENT
CLASS:PUBLIC
DTSTART:20250530T200000Z
DURATION:PT2H30M
STATUS:CONFIRMED
SUMMARY:TFC Frankfurt 2 vs. VfB Rodheim 1
DESCRIPTION:Bezirksliga Mitte (8. Spieltag)\nErgebnis: 8:17 (8:17)
LOCATION:"BOWL for Fun"  Langen, Robert-Bosch-Str. 7, 63225 Langen
UID:SM-B6326@tfvh.de
PRIORITY:5
SEQUENCE:1
CATEGORIES:SPORT
DTSTAMP:20260421T070048
BEGIN:VALARM
ACTION:DISPLAY
TRIGGER:-PT2H
END:VALARM
END:VEVENT
BEGIN:VEVENT
CLASS:PUBLIC
DTSTART:20250606T200000Z
DURATION:PT2H30M
STATUS:CONFIRMED
SUMMARY:TFC Florstadt 2 vs. VfB Rodheim 1
DESCRIPTION:Bezirksliga Mitte (9. Spieltag)\nErgebnis: 7:17 (7:17)
LOCATION:Kickerhof Florstadt, Im alten Steinbruch 7, 61197 Florstadt
UID:SM-B6331@tfvh.de
PRIORITY:5
SEQUENCE:1
CATEGORIES:SPORT
DTSTAMP:20260421T070048
BEGIN:VALARM
ACTION:DISPLAY
TRIGGER:-PT2H
END:VALARM
END:VEVENT
BEGIN:VEVENT
CLASS:PUBLIC
DTSTART:20250620T200000Z
DURATION:PT2H30M
STATUS:CONFIRMED
SUMMARY:SV 06 Alsfeld 2 vs. VfB Rodheim 1
DESCRIPTION:Bezirksliga Mitte (10. Spieltag)\nErgebnis: 5:19 (5:19)
LOCATION:Vereinsheim SV 06 Alsfeld, Jahnstraße 12 / Tribüne, 36304 Alsfeld
UID:SM-B6335@tfvh.de
PRIORITY:5
SEQUENCE:1
CATEGORIES:SPORT
DTSTAMP:20260421T070048
BEGIN:VALARM
ACTION:DISPLAY
TRIGGER:-PT2H
END:VALARM
END:VEVENT
BEGIN:VEVENT
CLASS:PUBLIC
DTSTART:20250704T200000Z
DURATION:PT2H30M
STATUS:CONFIRMED
SUMMARY:VfB Rodheim 1 vs. Eintracht Frankfurt 7
DESCRIPTION:Bezirksliga Mitte (12. Spieltag)\nErgebnis: 13:14 (13:14)
LOCATION:VfB Rodheim-Horloff Heimspielstätte, Oberndorfer Str. 20, 35410 Hungen-Rodheim
UID:SM-B6342@tfvh.de
PRIORITY:5
SEQUENCE:1
CATEGORIES:SPORT
DTSTAMP:20260421T070048
BEGIN:VALARM
ACTION:DISPLAY
TRIGGER:-PT2H
END:VALARM
END:VEVENT
BEGIN:VEVENT
CLASS:PUBLIC
DTSTART:20250822T200000Z
DURATION:PT2H30M
STATUS:CONFIRMED
SUMMARY:TFC Staufenberg 4 vs. VfB Rodheim 1
DESCRIPTION:Bezirksliga Mitte (13. Spieltag)\nErgebnis: 7:15 (7:15)
LOCATION:Vereinsheim TFC Staufenberg (Stadthalle), Porstendorfer Str. 2, 35460 Staufenberg
UID:SM-B6347@tfvh.de
PRIORITY:5
SEQUENCE:1
CATEGORIES:SPORT
DTSTAMP:20260421T070048
BEGIN:VALARM
ACTION:DISPLAY
TRIGGER:-PT2H
END:VALARM
END:VEVENT
BEGIN:VEVENT
CLASS:PUBLIC
DTSTART:20250912T200000Z
DURATION:PT2H30M
STATUS:CONFIRMED
SUMMARY:VfB Rodheim 1 vs. TFC Staufenberg 5
DESCRIPTION:Bezirksliga Mitte (14. Spieltag)\nErgebnis: 19:3 (19:3)
LOCATION:VfB Rodheim-Horloff Heimspielstätte, Oberndorfer Str. 20, 35410 Hungen-Rodheim
UID:SM-B6349@tfvh.de
PRIORITY:5
SEQUENCE:1
CATEGORIES:SPORT
DTSTAMP:20260421T070048
BEGIN:VALARM
ACTION:DISPLAY
TRIGGER:-PT2H
END:VALARM
END:VEVENT
BEGIN:VEVENT
CLASS:PUBLIC
DTSTART:20250926T200000Z
DURATION:PT2H30M
STATUS:CONFIRMED
SUMMARY:Eintracht Frankfurt 6 vs. VfB Rodheim 1
DESCRIPTION:Bezirksliga Mitte (15. Spieltag)\nErgebnis: 0:20 (0:20)
LOCATION:Tom's Bierbrunnen, Hellmundstraße 54, 65183 Wiesbaden
UID:SM-B6355@tfvh.de
PRIORITY:5
SEQUENCE:1
CATEGORIES:SPORT
DTSTAMP:20260421T070048
BEGIN:VALARM
ACTION:DISPLAY
TRIGGER:-PT2H
END:VALARM
END:VEVENT
BEGIN:VEVENT
CLASS:PUBLIC
DTSTART:20251024T200000Z
DURATION:PT2H30M
STATUS:CONFIRMED
SUMMARY:Eintracht Frankfurt 5 vs. VfB Rodheim 1
DESCRIPTION:Bezirksliga Mitte (16. Spieltag)\nErgebnis: 6:16 (6:16)
LOCATION:Niddahalle Eintracht Frankfurt, Oeserstraße 74, 65934 Frankfurt am Main
UID:SM-B6359@tfvh.de
PRIORITY:5
SEQUENCE:1
CATEGORIES:SPORT
DTSTAMP:20260421T070048
BEGIN:VALARM
ACTION:DISPLAY
TRIGGER:-PT2H
END:VALARM
END:VEVENT
BEGIN:VEVENT
CLASS:PUBLIC
DTSTART:20251031T200000Z
DURATION:PT2H30M
STATUS:CONFIRMED
SUMMARY:VfB Rodheim 1 vs. TFC Frankfurt 2
DESCRIPTION:Bezirksliga Mitte (17. Spieltag)\nErgebnis: 18:3 (18:3)
LOCATION:VfB Rodheim-Horloff Heimspielstätte, Oberndorfer Str. 20, 35410 Hungen-Rodheim
UID:SM-B6362@tfvh.de
PRIORITY:5
SEQUENCE:1
CATEGORIES:SPORT
DTSTAMP:20260421T070048
BEGIN:VALARM
ACTION:DISPLAY
TRIGGER:-PT2H
END:VALARM
END:VEVENT
BEGIN:VEVENT
CLASS:PUBLIC
DTSTART:20251114T200000Z
DURATION:PT2H30M
STATUS:CONFIRMED
SUMMARY:VfB Rodheim 1 vs. TFC Florstadt 2
DESCRIPTION:Bezirksliga Mitte (18. Spieltag)\nErgebnis: 16:11 (16:11)
LOCATION:VfB Rodheim-Horloff Heimspielstätte, Oberndorfer Str. 20, 35410 Hungen-Rodheim
UID:SM-B6367@tfvh.de
PRIORITY:5
SEQUENCE:1
CATEGORIES:SPORT
DTSTAMP:20260421T070048
BEGIN:VALARM
ACTION:DISPLAY
TRIGGER:-PT2H
END:VALARM
END:VEVENT
BEGIN:VEVENT
CLASS:PUBLIC
DTSTART:20251205T200000Z
DURATION:PT2H30M
STATUS:CONFIRMED
SUMMARY:VfB Rodheim 1 vs. Rot-Weiß Radheim 2
DESCRIPTION:Relegation zum Aufstieg in die Verbandsliga Süd\nErgebnis: 12:5 (12:5)
LOCATION:VfB Rodheim-Horloff Heimspielstätte, Oberndorfer Str. 20, 35410 Hungen-Rodheim
UID:SM-B6473@tfvh.de
PRIORITY:5
SEQUENCE:1
CATEGORIES:SPORT
DTSTAMP:20260421T070048
BEGIN:VALARM
ACTION:DISPLAY
TRIGGER:-PT2H
END:VALARM
END:VEVENT
BEGIN:VEVENT
CLASS:PUBLIC
DTSTART:20260213T200000Z
DURATION:PT2H30M
STATUS:CONFIRMED
SUMMARY:TFC Frankfurt 1 vs. VfB Rodheim 1
DESCRIPTION:Verbandsliga Süd (1. Spieltag)\nErgebnis: 8:16 (8:16)
LOCATION:"BOWL for Fun"  Langen, Robert-Bosch-Str. 7, 63225 Langen
UID:SM-B6480@tfvh.de
PRIORITY:5
SEQUENCE:1
CATEGORIES:SPORT
DTSTAMP:20260421T070048
BEGIN:VALARM
ACTION:DISPLAY
TRIGGER:-PT2H
END:VALARM
END:VEVENT
BEGIN:VEVENT
CLASS:PUBLIC
DTSTART:20260227T200000Z
DURATION:PT2H30M
STATUS:CONFIRMED
SUMMARY:VfB Rodheim 1 vs. TFC Florstadt 1
DESCRIPTION:Verbandsliga Süd (2. Spieltag)\nErgebnis: 11:15 (11:15)
LOCATION:VfB Rodheim-Horloff Heimspielstätte, Oberndorfer Str. 20, 35410 Hungen-Rodheim
UID:SM-B6554@tfvh.de
PRIORITY:5
SEQUENCE:1
CATEGORIES:SPORT
DTSTAMP:20260421T070048
BEGIN:VALARM
ACTION:DISPLAY
TRIGGER:-PT2H
END:VALARM
END:VEVENT
BEGIN:VEVENT
CLASS:PUBLIC
DTSTART:20260327T200000Z
DURATION:PT2H30M
STATUS:CONFIRMED
SUMMARY:VfB Rodheim 1 vs. TSC Fränkisch-Crumbach 3
DESCRIPTION:Verbandsliga Süd (4. Spieltag)\nErgebnis: 17:4 (17:4)
LOCATION:VfB Rodheim-Horloff Heimspielstätte, Oberndorfer Str. 20, 35410 Hungen-Rodheim
UID:SM-B6562@tfvh.de
PRIORITY:5
SEQUENCE:1
CATEGORIES:SPORT
DTSTAMP:20260421T070048
BEGIN:VALARM
ACTION:DISPLAY
TRIGGER:-PT2H
END:VALARM
END:VEVENT
BEGIN:VEVENT
CLASS:PUBLIC
DTSTART:20260417T200000Z
DURATION:PT2H30M
STATUS:CONFIRMED
SUMMARY:SV 06 Alsfeld 1 vs. VfB Rodheim 1
DESCRIPTION:Verbandsliga Süd (5. Spieltag)\nErgebnis: 16:9 (16:9)
LOCATION:Vereinsheim SV 06 Alsfeld, Jahnstraße 12 / Tribüne, 36304 Alsfeld
UID:SM-B6564@tfvh.de
PRIORITY:5
SEQUENCE:1
CATEGORIES:SPORT
DTSTAMP:20260421T070048
BEGIN:VALARM
ACTION:DISPLAY
TRIGGER:-PT2H
END:VALARM
END:VEVENT
BEGIN:VEVENT
CLASS:PUBLIC
DTSTART:20260424T200000Z
DURATION:PT2H30M
STATUS:CONFIRMED
SUMMARY:TuS Aschaffenburg-Damm 1 vs. VfB Rodheim 1
DESCRIPTION:Verbandsliga Süd (6. Spieltag)
LOCATION:Clubhaus TuS Aschaffenburg-Damm Turnhall, Schillerstraße 60, 63741 Aschaffenburg-Damm
UID:SM-B6570@tfvh.de
PRIORITY:5
SEQUENCE:0
CATEGORIES:SPORT
DTSTAMP:20260421T070048
BEGIN:VALARM
ACTION:DISPLAY
TRIGGER:-PT2H
END:VALARM
END:VEVENT
BEGIN:VEVENT
CLASS:PUBLIC
DTSTART:20260508T200000Z
DURATION:PT2H30M
STATUS:CONFIRMED
SUMMARY:VfB Rodheim 1 vs. TFC Staufenberg 3
DESCRIPTION:Verbandsliga Süd (7. Spieltag)
LOCATION:VfB Rodheim-Horloff Heimspielstätte, Oberndorfer Str. 20, 35410 Hungen-Rodheim
UID:SM-B6574@tfvh.de
PRIORITY:5
SEQUENCE:0
CATEGORIES:SPORT
DTSTAMP:20260421T070048
BEGIN:VALARM
ACTION:DISPLAY
TRIGGER:-PT2H
END:VALARM
END:VEVENT
BEGIN:VEVENT
CLASS:PUBLIC
DTSTART:20260522T200000Z
DURATION:PT2H30M
STATUS:CONFIRMED
SUMMARY:Rot-Weiß Radheim 2 vs. VfB Rodheim 1
DESCRIPTION:Verbandsliga Süd (8. Spieltag)
LOCATION:Sportlerheim SV Rot-Weiß Radheim e.V., Hofgarten 9  (Ringstraße 40), 64850 Schaafheim / Radheim
UID:SM-B6575@tfvh.de
PRIORITY:5
SEQUENCE:0
CATEGORIES:SPORT
DTSTAMP:20260421T070048
BEGIN:VALARM
ACTION:DISPLAY
TRIGGER:-PT2H
END:VALARM
END:VEVENT
BEGIN:VEVENT
CLASS:PUBLIC
DTSTART:20260529T200000Z
DURATION:PT2H30M
STATUS:CONFIRMED
SUMMARY:VfB Rodheim 1 vs. TSV Rot-Weiss Auerbach 1
DESCRIPTION:Verbandsliga Süd (9. Spieltag)
LOCATION:VfB Rodheim-Horloff Heimspielstätte, Oberndorfer Str. 20, 35410 Hungen-Rodheim
UID:SM-B6582@tfvh.de
PRIORITY:5
SEQUENCE:0
CATEGORIES:SPORT
DTSTAMP:20260421T070048
BEGIN:VALARM
ACTION:DISPLAY
TRIGGER:-PT2H
END:VALARM
END:VEVENT
BEGIN:VEVENT
CLASS:PUBLIC
DTSTART:20260619T200000Z
DURATION:PT2H30M
STATUS:CONFIRMED
SUMMARY:VfB Rodheim 1 vs. TFC Frankfurt 1
DESCRIPTION:Verbandsliga Süd (10. Spieltag)
LOCATION:VfB Rodheim-Horloff Heimspielstätte, Oberndorfer Str. 20, 35410 Hungen-Rodheim
UID:SM-B6584@tfvh.de
PRIORITY:5
SEQUENCE:0
CATEGORIES:SPORT
DTSTAMP:20260421T070048
BEGIN:VALARM
ACTION:DISPLAY
TRIGGER:-PT2H
END:VALARM
END:VEVENT
BEGIN:VEVENT
CLASS:PUBLIC
DTSTART:20260814T200000Z
DURATION:PT2H30M
STATUS:CONFIRMED
SUMMARY:TFC Florstadt 1 vs. VfB Rodheim 1
DESCRIPTION:Verbandsliga Süd (11. Spieltag)
LOCATION:Kickerhof Florstadt, Im alten Steinbruch 7, 61197 Florstadt
UID:SM-B6590@tfvh.de
PRIORITY:5
SEQUENCE:0
CATEGORIES:SPORT
DTSTAMP:20260421T070048
BEGIN:VALARM
ACTION:DISPLAY
TRIGGER:-PT2H
END:VALARM
END:VEVENT
BEGIN:VEVENT
CLASS:PUBLIC
DTSTART:20260911T200000Z
DURATION:PT2H30M
STATUS:CONFIRMED
SUMMARY:TSC Fränkisch-Crumbach 3 vs. VfB Rodheim 1
DESCRIPTION:Verbandsliga Süd (13. Spieltag)
LOCATION:Vereinsheim TSC Fr.Crumb. Schützenverein, Bahnhofstraße 58, 64407 Fränkisch - Crumbach
UID:SM-B6598@tfvh.de
PRIORITY:5
SEQUENCE:0
CATEGORIES:SPORT
DTSTAMP:20260421T070048
BEGIN:VALARM
ACTION:DISPLAY
TRIGGER:-PT2H
END:VALARM
END:VEVENT
BEGIN:VEVENT
CLASS:PUBLIC
DTSTART:20260918T200000Z
DURATION:PT2H30M
STATUS:CONFIRMED
SUMMARY:VfB Rodheim 1 vs. SV 06 Alsfeld 1
DESCRIPTION:Verbandsliga Süd (14. Spieltag)
LOCATION:VfB Rodheim-Horloff Heimspielstätte, Oberndorfer Str. 20, 35410 Hungen-Rodheim
UID:SM-B6600@tfvh.de
PRIORITY:5
SEQUENCE:0
CATEGORIES:SPORT
DTSTAMP:20260421T070048
BEGIN:VALARM
ACTION:DISPLAY
TRIGGER:-PT2H
END:VALARM
END:VEVENT
BEGIN:VEVENT
CLASS:PUBLIC
DTSTART:20261002T200000Z
DURATION:PT2H30M
STATUS:CONFIRMED
SUMMARY:VfB Rodheim 1 vs. TuS Aschaffenburg-Damm 1
DESCRIPTION:Verbandsliga Süd (15. Spieltag)
LOCATION:VfB Rodheim-Horloff Heimspielstätte, Oberndorfer Str. 20, 35410 Hungen-Rodheim
UID:SM-B6606@tfvh.de
PRIORITY:5
SEQUENCE:0
CATEGORIES:SPORT
DTSTAMP:20260421T070048
BEGIN:VALARM
ACTION:DISPLAY
TRIGGER:-PT2H
END:VALARM
END:VEVENT
BEGIN:VEVENT
CLASS:PUBLIC
DTSTART:20261023T200000Z
DURATION:PT2H30M
STATUS:CONFIRMED
SUMMARY:TFC Staufenberg 3 vs. VfB Rodheim 1
DESCRIPTION:Verbandsliga Süd (16. Spieltag)
LOCATION:Vereinsheim TFC Staufenberg (Stadthalle), Porstendorfer Str. 2, 35460 Staufenberg
UID:SM-B6610@tfvh.de
PRIORITY:5
SEQUENCE:0
CATEGORIES:SPORT
DTSTAMP:20260421T070048
BEGIN:VALARM
ACTION:DISPLAY
TRIGGER:-PT2H
END:VALARM
END:VEVENT
BEGIN:VEVENT
CLASS:PUBLIC
DTSTART:20261106T200000Z
DURATION:PT2H30M
STATUS:CONFIRMED
SUMMARY:VfB Rodheim 1 vs. Rot-Weiß Radheim 2
DESCRIPTION:Verbandsliga Süd (17. Spieltag)
LOCATION:VfB Rodheim-Horloff Heimspielstätte, Oberndorfer Str. 20, 35410 Hungen-Rodheim
UID:SM-B6611@tfvh.de
PRIORITY:5
SEQUENCE:0
CATEGORIES:SPORT
DTSTAMP:20260421T070048
BEGIN:VALARM
ACTION:DISPLAY
TRIGGER:-PT2H
END:VALARM
END:VEVENT
BEGIN:VEVENT
CLASS:PUBLIC
DTSTART:20261113T200000Z
DURATION:PT2H30M
STATUS:CONFIRMED
SUMMARY:TSV Rot-Weiss Auerbach 1 vs. VfB Rodheim 1
DESCRIPTION:Verbandsliga Süd (18. Spieltag)
LOCATION:Jugendzentrum TSV Auerbach  (OG!), Saarstraße 56, 64625 Bensheim
UID:SM-B6618@tfvh.de
PRIORITY:5
SEQUENCE:0
CATEGORIES:SPORT
DTSTAMP:20260421T070048
BEGIN:VALARM
ACTION:DISPLAY
TRIGGER:-PT2H
END:VALARM
END:VEVENT
END:VCALENDAR
